BEGIN:VCALENDAR
VERSION:2.0
PRODID:-//Islamic Counselling - ECPv6.15.20//NONSGML v1.0//EN
CALSCALE:GREGORIAN
METHOD:PUBLISH
X-WR-CALNAME:Islamic Counselling
X-ORIGINAL-URL:https://islamiccounselling.info
X-WR-CALDESC:Events for Islamic Counselling
REFRESH-INTERVAL;VALUE=DURATION:PT1H
X-Robots-Tag:noindex
X-PUBLISHED-TTL:PT1H
BEGIN:VTIMEZONE
TZID:Europe/London
BEGIN:DAYLIGHT
TZOFFSETFROM:+0000
TZOFFSETTO:+0100
TZNAME:BST
DTSTART:20240331T010000
END:DAYLIGHT
BEGIN:STANDARD
TZOFFSETFROM:+0100
TZOFFSETTO:+0000
TZNAME:GMT
DTSTART:20241027T010000
END:STANDARD
BEGIN:DAYLIGHT
TZOFFSETFROM:+0000
TZOFFSETTO:+0100
TZNAME:BST
DTSTART:20250330T010000
END:DAYLIGHT
BEGIN:STANDARD
TZOFFSETFROM:+0100
TZOFFSETTO:+0000
TZNAME:GMT
DTSTART:20251026T010000
END:STANDARD
BEGIN:DAYLIGHT
TZOFFSETFROM:+0000
TZOFFSETTO:+0100
TZNAME:BST
DTSTART:20260329T010000
END:DAYLIGHT
BEGIN:STANDARD
TZOFFSETFROM:+0100
TZOFFSETTO:+0000
TZNAME:GMT
DTSTART:20261025T010000
END:STANDARD
BEGIN:DAYLIGHT
TZOFFSETFROM:+0000
TZOFFSETTO:+0100
TZNAME:BST
DTSTART:20270328T010000
END:DAYLIGHT
BEGIN:STANDARD
TZOFFSETFROM:+0100
TZOFFSETTO:+0000
TZNAME:GMT
DTSTART:20271031T010000
END:STANDARD
BEGIN:DAYLIGHT
TZOFFSETFROM:+0000
TZOFFSETTO:+0100
TZNAME:BST
DTSTART:20280326T010000
END:DAYLIGHT
BEGIN:STANDARD
TZOFFSETFROM:+0100
TZOFFSETTO:+0000
TZNAME:GMT
DTSTART:20281029T010000
END:STANDARD
END:VTIMEZONE
BEGIN:VEVENT
DTSTART;TZID=Europe/London:20250920T100000
DTEND;TZID=Europe/London:20260725T170000
DTSTAMP:20260423T113113
CREATED:20250603T085619Z
LAST-MODIFIED:20250907T073831Z
UID:7453-1758362400-1784998800@islamiccounselling.info
SUMMARY:Diploma in Islamic Counselling
DESCRIPTION:Our Diploma in Islamic Counselling (Level 4) is a two year part time course that is the final stage in qualification as a counsellor. With this qualification you can apply for registered BACP membership and work in organisations from NHS to NGOs. It’s an in-depth preparation to work with people experiencing many different presentations\, but most importantly it deepens your lived experience of Islam through tawukkul\, tazkiyyat and tarbiyyah. Tutors are highly experienced and will guide you though as you complete your assignments\, placements and personal therapy – all requirements of this course.  More details on the course pages of the website. Only students with Islamic Counselling Level 3 can apply for this course. Dates are for Year 1 only.
URL:https://islamiccounselling.info/event/diploma-in-islamic-counselling/
LOCATION:Toddington Venue\, United Kingdom
ORGANIZER;CN="Sabnum Dharamsi - Co founder of Islamic Counselling":MAILTO:info@islamiccounselling.info
END:VEVENT
BEGIN:VEVENT
DTSTART;TZID=Europe/London:20260328T090000
DTEND;TZID=Europe/London:20260719T120000
DTSTAMP:20260423T113113
CREATED:20260121T172045Z
LAST-MODIFIED:20260121T172137Z
UID:7559-1774688400-1784462400@islamiccounselling.info
SUMMARY:Level 3 in Islamic Counselling
DESCRIPTION:L3 Islamic Counselling Prospectus 2026 \nTo apply for this course you will need the Islamic Counselling Level 2 Certificate\, or equivalent. In this second stage of the progression route\, students are invited into the world of nafsiyyat\, the Islamic sciences of the self\, as well as deepening their professional and personal understandings. Every aspect of the course is closely tied to theory in practice\, so your heart is on a journey of service. Learning includes an understanding of how to apply Islamic understandings to assess yourself and peer clients without judgement and for therapeutic healing. \nL3-application-form-1-1
URL:https://islamiccounselling.info/event/level-3-in-islamic-counselling/
LOCATION:online
ORGANIZER;CN="Sabnum Dharamsi - Co founder of Islamic Counselling":MAILTO:info@islamiccounselling.info
END:VEVENT
BEGIN:VEVENT
DTSTART;TZID=Europe/London:20260515T180000
DTEND;TZID=Europe/London:20260516T180000
DTSTAMP:20260423T113113
CREATED:20260323T125658Z
LAST-MODIFIED:20260323T125742Z
UID:7578-1778868000-1778954400@islamiccounselling.info
SUMMARY:🌿Conference: "The Myth of Therapeutic Neutrality"
DESCRIPTION:Our second conference – Islam: therapy\, Spirituality and Politics \n15th & 16th May 2026 \nTo every mental health professional and student who has ever felt the tension between their values and their practice — this is for you. \nPart of the established tradition of mental health work is that the therapeutic space is ‘neutral’. This idea of neutrality\, developed in the West\, has been exported globally to places and people with mixed experiences of many Western conceptions\, including justice. \nIncreasingly attention from diverse perspectives critique the idea of therapeutic neutrality as a myth. Are the values of our therapy indigenous to the ‘West’\, or do they reflect universal truths? Are they divine-sacred\, or pragmatic and political? All are welcome to this conference\, which offers therapists from our diverse communities an opportunity to reflect and dialogue on ancient and contemporary Islamic understandings of self\, therapy\, and well-being. Our worlds are structured by our imaginings of it\, and this conference explores Islamic understandings of knowing\, being\, and health\, that may invite a wider understanding of the field of mental health as a whole. \nContact details/Links\nOrganised jointly by onlineevents and Stephen Maynard & Associates. \n💛 Register here
URL:https://islamiccounselling.info/event/%f0%9f%8c%bfconference-the-myth-of-therapeutic-neutrality/
LOCATION:online
ORGANIZER;CN="onlineevents":MAILTO:help@onlinevents.co.uk
END:VEVENT
BEGIN:VEVENT
DTSTART;TZID=Europe/London:20260912T123000
DTEND;TZID=Europe/London:20270117T170000
DTSTAMP:20260423T113113
CREATED:20260323T124732Z
LAST-MODIFIED:20260323T124732Z
UID:7575-1789216200-1800205200@islamiccounselling.info
SUMMARY:Islamic Counselling Level 2
DESCRIPTION:Islamic_Counselling_Prospectus_2026-27-7
URL:https://islamiccounselling.info/event/islamic-counselling-level-2/
LOCATION:online
ORGANIZER;CN="Sabnum Dharamsi - Co founder of Islamic Counselling":MAILTO:info@islamiccounselling.info
END:VEVENT
END:VCALENDAR