BEGIN:VCALENDAR
VERSION:2.0
PRODID:-//Islamic Counselling - ECPv6.15.20//NONSGML v1.0//EN
CALSCALE:GREGORIAN
METHOD:PUBLISH
X-WR-CALNAME:Islamic Counselling
X-ORIGINAL-URL:https://islamiccounselling.info
X-WR-CALDESC:Events for Islamic Counselling
REFRESH-INTERVAL;VALUE=DURATION:PT1H
X-Robots-Tag:noindex
X-PUBLISHED-TTL:PT1H
BEGIN:VTIMEZONE
TZID:Europe/London
BEGIN:DAYLIGHT
TZOFFSETFROM:+0000
TZOFFSETTO:+0100
TZNAME:BST
DTSTART:20220327T010000
END:DAYLIGHT
BEGIN:STANDARD
TZOFFSETFROM:+0100
TZOFFSETTO:+0000
TZNAME:GMT
DTSTART:20221030T010000
END:STANDARD
BEGIN:DAYLIGHT
TZOFFSETFROM:+0000
TZOFFSETTO:+0100
TZNAME:BST
DTSTART:20230326T010000
END:DAYLIGHT
BEGIN:STANDARD
TZOFFSETFROM:+0100
TZOFFSETTO:+0000
TZNAME:GMT
DTSTART:20231029T010000
END:STANDARD
BEGIN:DAYLIGHT
TZOFFSETFROM:+0000
TZOFFSETTO:+0100
TZNAME:BST
DTSTART:20240331T010000
END:DAYLIGHT
BEGIN:STANDARD
TZOFFSETFROM:+0100
TZOFFSETTO:+0000
TZNAME:GMT
DTSTART:20241027T010000
END:STANDARD
BEGIN:DAYLIGHT
TZOFFSETFROM:+0000
TZOFFSETTO:+0100
TZNAME:BST
DTSTART:20250330T010000
END:DAYLIGHT
BEGIN:STANDARD
TZOFFSETFROM:+0100
TZOFFSETTO:+0000
TZNAME:GMT
DTSTART:20251026T010000
END:STANDARD
BEGIN:DAYLIGHT
TZOFFSETFROM:+0000
TZOFFSETTO:+0100
TZNAME:BST
DTSTART:20260329T010000
END:DAYLIGHT
BEGIN:STANDARD
TZOFFSETFROM:+0100
TZOFFSETTO:+0000
TZNAME:GMT
DTSTART:20261025T010000
END:STANDARD
BEGIN:DAYLIGHT
TZOFFSETFROM:+0000
TZOFFSETTO:+0100
TZNAME:BST
DTSTART:20270328T010000
END:DAYLIGHT
BEGIN:STANDARD
TZOFFSETFROM:+0100
TZOFFSETTO:+0000
TZNAME:GMT
DTSTART:20271031T010000
END:STANDARD
END:VTIMEZONE
BEGIN:VTIMEZONE
TZID:Asia/Shanghai
BEGIN:STANDARD
TZOFFSETFROM:+0800
TZOFFSETTO:+0800
TZNAME:CST
DTSTART:20230101T000000
END:STANDARD
END:VTIMEZONE
BEGIN:VTIMEZONE
TZID:Africa/Johannesburg
BEGIN:STANDARD
TZOFFSETFROM:+0200
TZOFFSETTO:+0200
TZNAME:SAST
DTSTART:20220101T000000
END:STANDARD
END:VTIMEZONE
BEGIN:VTIMEZONE
TZID:America/Toronto
BEGIN:DAYLIGHT
TZOFFSETFROM:-0500
TZOFFSETTO:-0400
TZNAME:EDT
DTSTART:20220313T070000
END:DAYLIGHT
BEGIN:STANDARD
TZOFFSETFROM:-0400
TZOFFSETTO:-0500
TZNAME:EST
DTSTART:20221106T060000
END:STANDARD
BEGIN:DAYLIGHT
TZOFFSETFROM:-0500
TZOFFSETTO:-0400
TZNAME:EDT
DTSTART:20230312T070000
END:DAYLIGHT
BEGIN:STANDARD
TZOFFSETFROM:-0400
TZOFFSETTO:-0500
TZNAME:EST
DTSTART:20231105T060000
END:STANDARD
BEGIN:DAYLIGHT
TZOFFSETFROM:-0500
TZOFFSETTO:-0400
TZNAME:EDT
DTSTART:20240310T070000
END:DAYLIGHT
BEGIN:STANDARD
TZOFFSETFROM:-0400
TZOFFSETTO:-0500
TZNAME:EST
DTSTART:20241103T060000
END:STANDARD
END:VTIMEZONE
BEGIN:VEVENT
DTSTART;TZID=Europe/London:20260131T140000
DTEND;TZID=Europe/London:20260131T183000
DTSTAMP:20260423T202101
CREATED:20260121T170150Z
LAST-MODIFIED:20260121T170150Z
UID:7550-1769868000-1769884200@islamiccounselling.info
SUMMARY:Join us for Nour's Annual Tea Party with Sabnum Dharamsi ✨
DESCRIPTION:Join us for Nour’s Annual Tea Party with Sabnum Dharamsi ✨ \nWe’re honoured to welcome Sabnum Dharamsi\, co-founder of Islamic Counselling\, who developed its theoretical model\, practice and accredited curriculum based on sacred and timeless ways of being. \nIn Sabnum’s own words: “Many years ago I realised that Islam has profound wisdom around the self\, so much power and light that can help us to unblock ourselves and move through difficult times without losing hope. I wanted to foster a culture of non-judgement so people could come forward without fear of blame.” \nSabnum is an international speaker\, supervisor for Muslim Youth Helpline\, and author including a regular column for Thresholds\, the spiritual journal of the British Association for Counselling and Psychotherapy. \nHer experience includes working in the addictions field\, youth counselling and university counselling\, in the corporate sector and with local government in the fields of education and public health. She has worked with clients\, community organisations\, and scholars around the globe. \nJoin us as Sabnum shares her deep insights on how we can heal through heart-centred Islamic Counselling. \n🗓️ Saturday 31st January 2026\n⏰ 2pm – 6:30pm\n📍 The Art Pavilion\, Clinton Rd\, London E3 4QY \n🎟️ Tickets: £25 | 3+ tickets: £20 each\nBook now: www.nour-dv.org.uk/events \n🚇 Nearest tube: Mile End\n🚌 Buses: 25\, 205\, 277\, 425\, 323\, 339\, D6\, D7 \n#Nour #IslamicCounselling #MuslimWellbeing #Healing #TeaParty #LondonEvents #CommunityGathering \nWomen and girls 16+
URL:https://islamiccounselling.info/event/join-us-for-nours-annual-tea-party-with-sabnum-dharamsi-%e2%9c%a8/
ORGANIZER;CN="nour-dv":MAILTO:www.nour-dv.org.uk/events
END:VEVENT
BEGIN:VEVENT
DTSTART;TZID=Europe/London:20251108T143000
DTEND;TZID=Europe/London:20251108T183000
DTSTAMP:20260423T202101
CREATED:20251215T182701Z
LAST-MODIFIED:20251215T182701Z
UID:7512-1762612200-1762626600@islamiccounselling.info
SUMMARY:Alumni Gathering
DESCRIPTION:
URL:https://islamiccounselling.info/event/alumni-gathering/
LOCATION:Toddington Venue\, United Kingdom
ORGANIZER;CN="Sabnum Dharamsi - Co founder of Islamic Counselling":MAILTO:info@islamiccounselling.info
END:VEVENT
BEGIN:VEVENT
DTSTART;TZID=Europe/London:20250913T093000
DTEND;TZID=Europe/London:20260111T123000
DTSTAMP:20260423T202101
CREATED:20250303T143328Z
LAST-MODIFIED:20250303T143328Z
UID:7368-1757755800-1768134600@islamiccounselling.info
SUMMARY:Islamic Counselling Level 2 begins
DESCRIPTION:The first in our progression route to becoming an Islamic Counsellor. This course can also be taken by people who would like to be introduced to Islamic Counselling skills and use it in a personal capacity.
URL:https://islamiccounselling.info/event/islamic-counselling-level-2-begins/
LOCATION:online
ORGANIZER;CN="Sabnum Dharamsi - Co founder of Islamic Counselling":MAILTO:info@islamiccounselling.info
END:VEVENT
BEGIN:VEVENT
DTSTART;TZID=Europe/London:20250727T100000
DTEND;TZID=Europe/London:20250727T120000
DTSTAMP:20260423T202101
CREATED:20250603T090036Z
LAST-MODIFIED:20250603T090036Z
UID:7457-1753610400-1753617600@islamiccounselling.info
SUMMARY:HeartSpace
DESCRIPTION:HeartSpace: A supportive gathering for Muslim Mental Health Workers\nFollowing our first HeartSpace\, we are continuing with this inspiring and supportive space for Muslim Mental Health Workers. More details shortly\, but save the date!
URL:https://islamiccounselling.info/event/heartspace/
LOCATION:online
END:VEVENT
BEGIN:VEVENT
DTSTART;TZID=Europe/London:20250525T100000
DTEND;TZID=Europe/London:20250525T120000
DTSTAMP:20260423T202101
CREATED:20250530T111011Z
LAST-MODIFIED:20250530T111011Z
UID:7437-1748167200-1748174400@islamiccounselling.info
SUMMARY:HeartSpace: A supportive gathering for Muslim Mental Health Workers
DESCRIPTION:
URL:https://islamiccounselling.info/event/heartspace-a-supportive-gathering-for-muslim-mental-health-workers/
LOCATION:online
END:VEVENT
BEGIN:VEVENT
DTSTART;TZID=Europe/London:20250522T170000
DTEND;TZID=Europe/London:20250522T190000
DTSTAMP:20260423T202101
CREATED:20250502T161817Z
LAST-MODIFIED:20250502T161817Z
UID:7414-1747933200-1747940400@islamiccounselling.info
SUMMARY:Islamic Counselling & Psychology: Decolonising Mainstream Models & Practices?
DESCRIPTION:Over the last two decades\, Islamic counselling and psychology have grown rapidly in the UK — shaping theory\, training\, and services. These approaches often emerge from cross-cultural\, anti-racist\, and decolonial traditions\, yet there remains limited space for dialogue between diverse models and practices. \nThis panel brings together Muslim women working as practitioners\, researchers\, and educators to explore key questions:\n🔹 What makes therapy ‘Islamic’?\n🔹 How do Islamic approaches relate to mainstream counselling models?\n🔹 How can they respond to the mental health needs of Muslim communities\, especially women? \nSpeakers:\n🔹 Sabnum Dharamsi\n🔹 Prof Ghazala Mir\n🔹 Dr Aaliyah Shaikh \nChair: Dr Giulia Liberatore
URL:https://islamiccounselling.info/event/islamic-counselling-psychology-decolonising-mainstream-models-practices/
LOCATION:Screening Room G.04\, 50 George Square\, University of Edinburgh\, 50 George Square\, Edinburgh\, United Kingdom
END:VEVENT
BEGIN:VEVENT
DTSTART;TZID=Europe/London:20250503T100000
DTEND;TZID=Europe/London:20250503T180000
DTSTAMP:20260423T202101
CREATED:20250429T162008Z
LAST-MODIFIED:20250429T162023Z
UID:7406-1746266400-1746295200@islamiccounselling.info
SUMMARY:Nurturing Minds Conference - Mental Health and Young People
DESCRIPTION:https://islamiccounselling.info/wp-content/uploads/2025/04/VIDEO-2025-04-24-13-59-25.mp4
URL:https://islamiccounselling.info/event/nurturing-minds-conference-mental-health-and-young-people/
LOCATION:Newnham College\, University of Cambridge
END:VEVENT
BEGIN:VEVENT
DTSTART;TZID=Europe/London:20250405T093000
DTEND;TZID=Europe/London:20250803T123000
DTSTAMP:20260423T202101
CREATED:20241118T151057Z
LAST-MODIFIED:20241118T151057Z
UID:7349-1743845400-1754224200@islamiccounselling.info
SUMMARY:Islamic Counselling Level 3
DESCRIPTION:Islamic Counselling Level 3 is the 2nd course in our progression route to becoming a counsellor. It is also useful for any professional or person working in the community to build their understanding and develop counselling skills in the context of their other work. \nThis level combines ‘head and heart’ – bringing together intuitive heart-based understandings with theoretical knowledge of nafsiyyat. We also lay a foundation for professional practice.
URL:https://islamiccounselling.info/event/islamic-counselling-level-3/
LOCATION:online
ORGANIZER;CN="Sabnum Dharamsi - Co founder of Islamic Counselling":MAILTO:info@islamiccounselling.info
END:VEVENT
BEGIN:VEVENT
DTSTART;TZID=Europe/London:20250125T160000
DTEND;TZID=Europe/London:20250125T190000
DTSTAMP:20260423T202101
CREATED:20250107T174251Z
LAST-MODIFIED:20250107T174723Z
UID:7358-1737820800-1737831600@islamiccounselling.info
SUMMARY:Islam: Therapy\, Spirituality & Politics - Islam and Therapy: Gathering for Muslim Therapists & Students
DESCRIPTION:As part of the Islam: Therapy\, Spirituality and Politics Conference\, we warmly invite Muslim conference participants to share our experiences\, gain support from each other\, and consider any emergent themes and actions arising from the conference. The session will begin by sharing breathwork incorporating islamic principles. Please note\, you will need to book separately for this meeting.
URL:https://islamiccounselling.info/event/islam-therapy-spirituality-politics/
LOCATION:Zoom
ORGANIZER;CN="Sabnum Dharamsi - Co founder of Islamic Counselling":MAILTO:info@islamiccounselling.info
END:VEVENT
BEGIN:VEVENT
DTSTART;TZID=Europe/London:20250124T183000
DTEND;TZID=Europe/London:20250125T140000
DTSTAMP:20260423T202101
CREATED:20250107T175025Z
LAST-MODIFIED:20250107T175025Z
UID:7362-1737743400-1737813600@islamiccounselling.info
SUMMARY:Islam: Therapy\, Spirituality & Politics
DESCRIPTION:All are welcome to this online conference\, which aims to offer therapists and trainees from our diverse communities an opportunity to reflect and dialogue on ancient and contemporary Islamic understandings of self\, therapy\, and well-being. Islamophobia is rife in the construction of geopolitical and local politics and impacts therapeutic practice and its institutions but is often forgotten in race / health dialogues. \nTo critique existing practice\, and to imagine different futures\, we need to rediscover our diverse heritages. This conference explores Islamic understandings of knowing\, being\, and health\, that may invite a wider understanding of the field of mental health as a whole. We are also offering an additional event for Muslim practitioners and students only after the conference.
URL:https://islamiccounselling.info/event/islam-therapy-spirituality-politics-2/
LOCATION:online
ORGANIZER;CN="Sabnum Dharamsi - Co founder of Islamic Counselling":MAILTO:info@islamiccounselling.info
END:VEVENT
BEGIN:VEVENT
DTSTART;TZID=Europe/London:20241127T123000
DTEND;TZID=Europe/London:20241127T133000
DTSTAMP:20260423T202101
CREATED:20241126T131530Z
LAST-MODIFIED:20241126T131530Z
UID:7351-1732710600-1732714200@islamiccounselling.info
SUMMARY:Islamophobia and Mental Health 2024
DESCRIPTION:Abdullah Maynard will be a panellist at this event which centres on the theme “seeds for Change” highlighting how small meaningful actions can contribute to significant positive shifts in society. Run by the Association of Mental Health Providers
URL:https://islamiccounselling.info/event/islamophobia-and-mental-health-2024/
LOCATION:online
END:VEVENT
BEGIN:VEVENT
DTSTART;TZID=Europe/London:20241109T093000
DTEND;TZID=Europe/London:20241109T173000
DTSTAMP:20260423T202101
CREATED:20240924T170720Z
LAST-MODIFIED:20240924T170720Z
UID:7333-1731144600-1731173400@islamiccounselling.info
SUMMARY:Therapy and Social Change: Developing Connections
DESCRIPTION:This event is dedicated to exploring the connections between therapy\, mental health\, and social justice\, with a particular focus on relational depth. The day will include a panel discussion\, experiential workshops\, conversations\, and opportunities to network with therapists\, activists\, and those passionate about the role of therapy in driving social change. Organised by Therapy and Social Change\, Sabnum Dharamsi will be joining Mick Cooper\, Myira Khan and others as panellists for this event on fostering connection and relational depth.
URL:https://islamiccounselling.info/event/therapy-and-social-change-developing-connections/
LOCATION:Castlehaven Community Association\, 23 Castlehaven Road London NW1 8RU\, London\, NW1 8RU\, United Kingdom
END:VEVENT
BEGIN:VEVENT
DTSTART;TZID=Europe/London:20240921T100000
DTEND;TZID=Europe/London:20240921T183000
DTSTAMP:20260423T202101
CREATED:20240607T173422Z
LAST-MODIFIED:20240607T173422Z
UID:7286-1726912800-1726943400@islamiccounselling.info
SUMMARY:Diploma in Islamic Counselling 2024-2026 begins
DESCRIPTION:The Level 4 Diploma course is our professional qualification. It is an intense course\, demanding of students deep personal growth\, detailed supervision in relation to their counselling work\, and working within a placement. Nafsiyyat underpins all areas of work\, but we also pursue lines of enquiry into neuroscience\, research\, social psychology and other sciences. Students are encouraged to see the similarities and differences with other counselling models to prepare them for work within mainstream and niche settings. The Level 3 qualification in Islamic Counselling is an essential entry requirement. \n 
URL:https://islamiccounselling.info/event/diploma-in-islamic-counselling-2024-2026-begins/
LOCATION:Toddington Venue\, United Kingdom
ATTACH;FMTTYPE=image/jpeg:https://islamiccounselling.info/wp-content/uploads/2023/10/1696431793855_example-certificate_01HBXKDSTGN3WVM2QWEX5BPEN4.jpg
ORGANIZER;CN="Sabnum Dharamsi - Co founder of Islamic Counselling":MAILTO:info@islamiccounselling.info
END:VEVENT
BEGIN:VEVENT
DTSTART;TZID=Europe/London:20240914T093000
DTEND;TZID=Europe/London:20240914T123000
DTSTAMP:20260423T202101
CREATED:20240524T224854Z
LAST-MODIFIED:20240524T224854Z
UID:7273-1726306200-1726317000@islamiccounselling.info
SUMMARY:Level 2 in Islamic Counselling begins
DESCRIPTION:
URL:https://islamiccounselling.info/event/level-2-in-islamic-counselling-begins-3/
LOCATION:online
ATTACH;FMTTYPE=image/jpeg:https://islamiccounselling.info/wp-content/uploads/2022/04/Screenshot_20220224-165638_Facebook-e1657725957329.jpg
ORGANIZER;CN="Sabnum Dharamsi - Co founder of Islamic Counselling":MAILTO:info@islamiccounselling.info
END:VEVENT
BEGIN:VEVENT
DTSTART;TZID=Asia/Shanghai:20240912T200000
DTEND;TZID=Asia/Shanghai:20240912T213000
DTSTAMP:20260423T202101
CREATED:20240829T125533Z
LAST-MODIFIED:20240829T125650Z
UID:7321-1726171200-1726176600@islamiccounselling.info
SUMMARY:Islamic Counselling - A Discussion on Decolonising Therapy through the Islamic Counselling Paradigm: Challenges in Malaysia
DESCRIPTION:
URL:https://islamiccounselling.info/event/islamic-counselling-a-discussion-on-decolonising-therapy-through-the-islamic-counselling-paradigm-challenges-in-malaysia/
LOCATION:Mukha Ba\, 15 Lorong Rahim Kajai 13\, Kuala Lumpur\, Malaysia
END:VEVENT
BEGIN:VEVENT
DTSTART;TZID=Europe/London:20240831T090000
DTEND;TZID=Europe/London:20240831T180000
DTSTAMP:20260423T202101
CREATED:20240607T172624Z
LAST-MODIFIED:20240607T172804Z
UID:7278-1725094800-1725127200@islamiccounselling.info
SUMMARY:Strength and Solidarity : Reviving Ties that Unite Us
DESCRIPTION:Islamic Counselling and Resilience by Abdullah Maynard\, hosted by BIMA National Conference 2024 \nhttps://britishima.org/event/bima-national-conference-2024/
URL:https://islamiccounselling.info/event/strength-and-solidarity-reviving-ties-that-unite-us/
LOCATION:The Occulus\, University of Warwick\, CV4 7AL\, Warwick\, United Kingdom
END:VEVENT
BEGIN:VEVENT
DTSTART;TZID=Europe/London:20240829T183000
DTEND;TZID=Europe/London:20240829T203000
DTSTAMP:20260423T202101
CREATED:20240829T123605Z
LAST-MODIFIED:20240829T123605Z
UID:7318-1724956200-1724963400@islamiccounselling.info
SUMMARY:Release and Restoration - post far right Islamophobia
DESCRIPTION:Join us for this event\, intended to support therapists and student therapists who identify as Muslim and who feel impacted by the recent far-right islamophobic\, anti-refugee and rascist disorder. The space is intended to allow practitioners to be with and share what they are experiencing\, reflect uon their role as caregivers and seek support amongst peers. It is not intended to be a political debate space.
URL:https://islamiccounselling.info/event/release-and-restoration-post-far-right-islamophobia/
LOCATION:zoom\, Rumi's Cave 26 Willesden Lane\, London\, United Kingdom
END:VEVENT
BEGIN:VEVENT
DTSTART;TZID=Europe/London:20240712T180000
DTEND;TZID=Europe/London:20240712T193000
DTSTAMP:20260423T202101
CREATED:20240624T095324Z
LAST-MODIFIED:20240625T070541Z
UID:7290-1720807200-1720812600@islamiccounselling.info
SUMMARY:Islamic Counselling Open Evening
DESCRIPTION:Join us for a virtual open evening to learn more about our Islamic Counselling Courses!
URL:https://islamiccounselling.info/event/islamic-counselling-open-evening-2/
LOCATION:online
ORGANIZER;CN="Sabnum Dharamsi - Co founder of Islamic Counselling":MAILTO:info@islamiccounselling.info
END:VEVENT
BEGIN:VEVENT
DTSTART;TZID=Europe/London:20240630T093000
DTEND;TZID=Europe/London:20240630T170000
DTSTAMP:20260423T202101
CREATED:20240625T074216Z
LAST-MODIFIED:20240625T074216Z
UID:7302-1719739800-1719766800@islamiccounselling.info
SUMMARY:Therapy and Social Change Summit - Minoritised Communities\, neo-colonialism & decoloniality towards mental wellbeing
DESCRIPTION:There’s a ripple in the force! Abdullah and I presenting at this ‘snap’ conference in advance of UK elections. “Changing the way we think\, feel and do politics” This conference is studded with star speakers such as Mick Cooper\, Emmy van Dreuzen\, Myira Khan\, Andrew Samuels\, Nick Totton\, Dwight Turner and many others. Looking at the interface of therapy and politics.
URL:https://islamiccounselling.info/event/therapy-and-social-change-summit-minoritised-communities-neo-colonialism-decoloniality-towards-mental-wellbeing/
LOCATION:online
END:VEVENT
BEGIN:VEVENT
DTSTART;TZID=Europe/London:20240224T100000
DTEND;TZID=Europe/London:20240720T170000
DTSTAMP:20260423T202101
CREATED:20231031T005940Z
LAST-MODIFIED:20231031T005940Z
UID:7243-1708768800-1721494800@islamiccounselling.info
SUMMARY:Level 3 in Islamic Counselling Begins
DESCRIPTION:
URL:https://islamiccounselling.info/event/level-3-in-islamic-counselling-begins/
LOCATION:online
ORGANIZER;CN="Sabnum Dharamsi - Co founder of Islamic Counselling":MAILTO:info@islamiccounselling.info
END:VEVENT
BEGIN:VEVENT
DTSTART;TZID=Europe/London:20240207T130000
DTEND;TZID=Europe/London:20240207T150000
DTSTAMP:20260423T202101
CREATED:20240206T164728Z
LAST-MODIFIED:20240206T164728Z
UID:7265-1707310800-1707318000@islamiccounselling.info
SUMMARY:Palestine and Israel: A Space Without Pretence
DESCRIPTION:A process group for us to sit together around our experience of the conflict in Gaza and Israel.
URL:https://islamiccounselling.info/event/palestine-and-israel-a-space-without-pretence/
LOCATION:online
ORGANIZER;CN="onlineevents":MAILTO:help@onlinevents.co.uk
END:VEVENT
BEGIN:VEVENT
DTSTART;TZID=Africa/Johannesburg:20231207T170000
DTEND;TZID=Africa/Johannesburg:20231207T190000
DTSTAMP:20260423T202101
CREATED:20231122T200724Z
LAST-MODIFIED:20231122T201039Z
UID:7253-1701968400-1701975600@islamiccounselling.info
SUMMARY:Vulnerable Selves: Conversations in Islamic Counselling
DESCRIPTION:UCT Poster PDF
URL:https://islamiccounselling.info/event/vulnerable-selves-conversations-in-islamic-counselling/
ORGANIZER;CN="Department for the Study of Religions University of Cape Town and Centre for Contemporary Islam":MAILTO:shafieka.moos@uct.ac.za
END:VEVENT
BEGIN:VEVENT
DTSTART;TZID=Europe/London:20231104T100000
DTEND;TZID=Europe/London:20231104T163000
DTSTAMP:20260423T202101
CREATED:20231031T010544Z
LAST-MODIFIED:20231031T010649Z
UID:7245-1699092000-1699115400@islamiccounselling.info
SUMMARY:Celebrating Diverse Practice: Spirit\, Mind and Body
DESCRIPTION:This conference makes room for the spirit\, soul and the body in therapeutic practice. We also want to highlight the range of diverse practice within the BAATN membership and bring this work centre stage. \nSabnum and Abdullah will be presenting a keynote speech as well as a workshop in which they will explore journeys of light…..
URL:https://islamiccounselling.info/event/celebrating-diverse-practice-spirit-mind-and-body/
END:VEVENT
BEGIN:VEVENT
DTSTART;TZID=America/Toronto:20230902T100000
DTEND;TZID=America/Toronto:20230902T173000
DTSTAMP:20260423T202101
CREATED:20230722T064140Z
LAST-MODIFIED:20230722T064140Z
UID:7217-1693648800-1693675800@islamiccounselling.info
SUMMARY:The Diploma Year 2 in Islamic Counselling begins
DESCRIPTION:Welcome back to Year 2 students in Islamic Counselling. This inshallah is the year that you become an Islamic Counsellor. \nAnd We are closer to him than you\, but you do not see. [56:85] For\, they who believe in Allah and His messengers – it is they who are\, loyal\, and the martyrs are with their Lord; they have their reward and their light. [57:19]
URL:https://islamiccounselling.info/event/the-diploma-year-2-in-islamic-counselling-begins/
LOCATION:Zoom
ORGANIZER;CN="Sabnum Dharamsi - Co founder of Islamic Counselling":MAILTO:info@islamiccounselling.info
END:VEVENT
BEGIN:VEVENT
DTSTART;TZID=America/Toronto:20230902T100000
DTEND;TZID=America/Toronto:20230902T173000
DTSTAMP:20260423T202101
CREATED:20230722T063714Z
LAST-MODIFIED:20230722T063714Z
UID:7215-1693648800-1693675800@islamiccounselling.info
SUMMARY:Level 2 in Islamic Counselling begins
DESCRIPTION:The Level 2 in Islamic Counselling is the first level in our accredited  progression route. Running online\, Saturday classes between September and January. See courses page for application. \nAnd We are closer to him than you\, but you do not see. [56:85] For\, they who believe in Allah and His messengers – it is they who are\, loyal\, and the martyrs are with their Lord; they have their reward and their light. [57:19]
URL:https://islamiccounselling.info/event/level-2-in-islamic-counselling-begins-2/
LOCATION:Zoom
ORGANIZER;CN="Sabnum Dharamsi - Co founder of Islamic Counselling":MAILTO:info@islamiccounselling.info
END:VEVENT
BEGIN:VEVENT
DTSTART;TZID=America/Toronto:20230902T100000
DTEND;TZID=America/Toronto:20230902T173000
DTSTAMP:20260423T202101
CREATED:20230307T120613Z
LAST-MODIFIED:20230307T120613Z
UID:7162-1693648800-1693675800@islamiccounselling.info
SUMMARY:Level 2 in Islamic Counselling begins
DESCRIPTION:The Level 2 in Islamic Counselling is the first level in our accredited  progression route. Running online\, Saturday classes between September and January. See courses page for application. \nAnd We are closer to him than you\, but you do not see. [56:85] For\, they who believe in Allah and His messengers – it is they who are\, loyal\, and the martyrs are with their Lord; they have their reward and their light. [57:19]
URL:https://islamiccounselling.info/event/level-2-in-islamic-counselling-begins/
LOCATION:Zoom
ORGANIZER;CN="Sabnum Dharamsi - Co founder of Islamic Counselling":MAILTO:info@islamiccounselling.info
END:VEVENT
BEGIN:VEVENT
DTSTART;TZID=Europe/London:20230826T133000
DTEND;TZID=Europe/London:20230826T143000
DTSTAMP:20260423T202101
CREATED:20230824T005853Z
LAST-MODIFIED:20230824T005853Z
UID:7221-1693056600-1693060200@islamiccounselling.info
SUMMARY:Counselling from an Islamic Perspective
DESCRIPTION:
URL:https://islamiccounselling.info/event/counselling-from-an-islamic-perspective/
LOCATION:online
ORGANIZER;CN="ISIP":MAILTO:contact@isip.foundation
END:VEVENT
BEGIN:VEVENT
DTSTART;TZID=Europe/London:20230721T190000
DTEND;TZID=Europe/London:20230721T203000
DTSTAMP:20260423T202101
CREATED:20230316T052902Z
LAST-MODIFIED:20230316T052902Z
UID:7111-1689966000-1689971400@islamiccounselling.info
SUMMARY:"Open Hour'"
DESCRIPTION:Our last open event for the year! Come and meet us so you can discover all you need to know about our highly respected Islamic Counselling courses! Focusing primarily on our level 2 and Level 3. 
URL:https://islamiccounselling.info/event/open-hour-2/
LOCATION:Zoom
ORGANIZER;CN="Sabnum Dharamsi - Co founder of Islamic Counselling":MAILTO:info@islamiccounselling.info
END:VEVENT
BEGIN:VEVENT
DTSTART;TZID=America/Toronto:20230519T173000
DTEND;TZID=America/Toronto:20230519T190000
DTSTAMP:20260423T202101
CREATED:20230316T053612Z
LAST-MODIFIED:20230316T053612Z
UID:7174-1684517400-1684522800@islamiccounselling.info
SUMMARY:Islamic Counselling Evening Open Hour
DESCRIPTION:Hear about course requirements\, what you need to be an Islamic Counselor\, progression routes\, Nafsiyyat\, /everything you need to know before you metaphorically pack your bags to join the flying carpet that is the course. 😊 \nhttps://www.eventbrite.co.uk/e/open-hour-for-islamic-counselling-tickets-576308102047?aff=odcleoeventsincollection
URL:https://islamiccounselling.info/event/islamic-counselling-evening-open-hour/
LOCATION:Zoom
ORGANIZER;CN="Sabnum Dharamsi - Co founder of Islamic Counselling":MAILTO:info@islamiccounselling.info
END:VEVENT
BEGIN:VEVENT
DTSTART;TZID=Europe/London:20230307T130000
DTEND;TZID=Europe/London:20230307T143000
DTSTAMP:20260423T202101
CREATED:20230307T113902Z
LAST-MODIFIED:20230307T115538Z
UID:7160-1678194000-1678199400@islamiccounselling.info
SUMMARY:Our therapeutic direction is towards Light: Islamic Counselling and a non-secular politics of difference and transcendence
DESCRIPTION:Part of Brunel University’s Departmental Seminars\, presentation by Giulia Liberatore and sabnum Dharamsi\, based on our collaborative paper\, under editorial review.
URL:https://islamiccounselling.info/event/our-therapeutic-direction-is-towards-light-islamic-counselling-and-a-non-sucular-politics-of-difference-and-transcendence/
LOCATION:zoom\, Rumi's Cave 26 Willesden Lane\, London\, United Kingdom
END:VEVENT
END:VCALENDAR