BEGIN:VCALENDAR
VERSION:2.0
PRODID:-//Islamic Counselling - ECPv6.15.20//NONSGML v1.0//EN
CALSCALE:GREGORIAN
METHOD:PUBLISH
X-WR-CALNAME:Islamic Counselling
X-ORIGINAL-URL:https://islamiccounselling.info
X-WR-CALDESC:Events for Islamic Counselling
REFRESH-INTERVAL;VALUE=DURATION:PT1H
X-Robots-Tag:noindex
X-PUBLISHED-TTL:PT1H
BEGIN:VTIMEZONE
TZID:Europe/Moscow
BEGIN:STANDARD
TZOFFSETFROM:+0300
TZOFFSETTO:+0300
TZNAME:MSK
DTSTART:20190101T000000
END:STANDARD
END:VTIMEZONE
BEGIN:VTIMEZONE
TZID:UTC
BEGIN:STANDARD
TZOFFSETFROM:+0000
TZOFFSETTO:+0000
TZNAME:UTC
DTSTART:20160101T000000
END:STANDARD
END:VTIMEZONE
BEGIN:VTIMEZONE
TZID:Europe/London
BEGIN:DAYLIGHT
TZOFFSETFROM:+0000
TZOFFSETTO:+0100
TZNAME:BST
DTSTART:20190331T010000
END:DAYLIGHT
BEGIN:STANDARD
TZOFFSETFROM:+0100
TZOFFSETTO:+0000
TZNAME:GMT
DTSTART:20191027T010000
END:STANDARD
BEGIN:DAYLIGHT
TZOFFSETFROM:+0000
TZOFFSETTO:+0100
TZNAME:BST
DTSTART:20200329T010000
END:DAYLIGHT
BEGIN:STANDARD
TZOFFSETFROM:+0100
TZOFFSETTO:+0000
TZNAME:GMT
DTSTART:20201025T010000
END:STANDARD
BEGIN:DAYLIGHT
TZOFFSETFROM:+0000
TZOFFSETTO:+0100
TZNAME:BST
DTSTART:20210328T010000
END:DAYLIGHT
BEGIN:STANDARD
TZOFFSETFROM:+0100
TZOFFSETTO:+0000
TZNAME:GMT
DTSTART:20211031T010000
END:STANDARD
END:VTIMEZONE
BEGIN:VEVENT
DTSTART;TZID=Europe/Moscow:20201024T210000
DTEND;TZID=Europe/Moscow:20201024T223000
DTSTAMP:20260424T111840
CREATED:20201021T093613Z
LAST-MODIFIED:20201021T093613Z
UID:6894-1603573200-1603578600@islamiccounselling.info
SUMMARY:The Search for a soulmate - limited seats available
DESCRIPTION:A free event for mothers with children of marriageable age in East Africa only. \nTO REGISTER CONTACT\naftab@africafederation.org\n+255 655 553 883/ +447791506386
URL:https://islamiccounselling.info/event/the-search-for-a-soulmate-limited-seats-available/
LOCATION:Zoom
ORGANIZER;CN="Sabnum Dharamsi - Co founder of Islamic Counselling":MAILTO:info@islamiccounselling.info
END:VEVENT
BEGIN:VEVENT
DTSTART;TZID=UTC:20200929T100000
DTEND;TZID=UTC:20220122T170000
DTSTAMP:20260424T111840
CREATED:20210827T072602Z
LAST-MODIFIED:20210827T072602Z
UID:7002-1601373600-1642870800@islamiccounselling.info
SUMMARY:Accredited Islamic Counselling Level 2
DESCRIPTION:The first stage in our progression route. Ends 22nd January
URL:https://islamiccounselling.info/event/accredited-islamic-counselling-level-2/
LOCATION:Zoom
ORGANIZER;CN="Sabnum Dharamsi - Co founder of Islamic Counselling":MAILTO:info@islamiccounselling.info
END:VEVENT
BEGIN:VEVENT
DTSTART;TZID=Europe/London:20200803T190000
DTEND;TZID=Europe/London:20200803T200000
DTSTAMP:20260424T111840
CREATED:20200714T121815Z
LAST-MODIFIED:20200717T044259Z
UID:6677-1596481200-1596484800@islamiccounselling.info
SUMMARY:Our Progression Route in Islamic Counselling
DESCRIPTION:
URL:https://islamiccounselling.info/event/islamic-counselling-open-evening/
END:VEVENT
BEGIN:VEVENT
DTSTART;VALUE=DATE:20170721
DTEND;VALUE=DATE:20170722
DTSTAMP:20260424T111840
CREATED:20180816T110220Z
LAST-MODIFIED:20210823T093102Z
UID:5993-1500595200-1500681599@islamiccounselling.info
SUMMARY:Islamic Counselling : The Open Evening
DESCRIPTION:Join us for an informal evening at Rumi’s Cave in London where you can gain more knowledge about Islamic Counselling courses\, speak to counsellors and students about their experiences and become familiar with the feel of an Islamic counselling course.
URL:https://islamiccounselling.info/event/islamic-counselling-the-open-evening/
LOCATION:zoom\, Rumi's Cave 26 Willesden Lane\, London\, United Kingdom
ORGANIZER;CN="Sabnum Dharamsi - Co founder of Islamic Counselling":MAILTO:info@islamiccounselling.info
END:VEVENT
END:VCALENDAR