BEGIN:VCALENDAR
VERSION:2.0
PRODID:-//Islamic Counselling - ECPv6.15.20//NONSGML v1.0//EN
CALSCALE:GREGORIAN
METHOD:PUBLISH
X-WR-CALNAME:Islamic Counselling
X-ORIGINAL-URL:https://islamiccounselling.info
X-WR-CALDESC:Events for Islamic Counselling
REFRESH-INTERVAL;VALUE=DURATION:PT1H
X-Robots-Tag:noindex
X-PUBLISHED-TTL:PT1H
BEGIN:VTIMEZONE
TZID:Europe/London
BEGIN:DAYLIGHT
TZOFFSETFROM:+0000
TZOFFSETTO:+0100
TZNAME:BST
DTSTART:20230326T010000
END:DAYLIGHT
BEGIN:STANDARD
TZOFFSETFROM:+0100
TZOFFSETTO:+0000
TZNAME:GMT
DTSTART:20231029T010000
END:STANDARD
BEGIN:DAYLIGHT
TZOFFSETFROM:+0000
TZOFFSETTO:+0100
TZNAME:BST
DTSTART:20240331T010000
END:DAYLIGHT
BEGIN:STANDARD
TZOFFSETFROM:+0100
TZOFFSETTO:+0000
TZNAME:GMT
DTSTART:20241027T010000
END:STANDARD
BEGIN:DAYLIGHT
TZOFFSETFROM:+0000
TZOFFSETTO:+0100
TZNAME:BST
DTSTART:20250330T010000
END:DAYLIGHT
BEGIN:STANDARD
TZOFFSETFROM:+0100
TZOFFSETTO:+0000
TZNAME:GMT
DTSTART:20251026T010000
END:STANDARD
END:VTIMEZONE
BEGIN:VEVENT
DTSTART;TZID=Europe/London:20240914T093000
DTEND;TZID=Europe/London:20240914T123000
DTSTAMP:20260425T124237
CREATED:20240524T224854Z
LAST-MODIFIED:20240524T224854Z
UID:7273-1726306200-1726317000@islamiccounselling.info
SUMMARY:Level 2 in Islamic Counselling begins
DESCRIPTION:
URL:https://islamiccounselling.info/event/level-2-in-islamic-counselling-begins-3/
LOCATION:online
ATTACH;FMTTYPE=image/jpeg:https://islamiccounselling.info/wp-content/uploads/2022/04/Screenshot_20220224-165638_Facebook-e1657725957329.jpg
ORGANIZER;CN="Sabnum Dharamsi - Co founder of Islamic Counselling":MAILTO:info@islamiccounselling.info
END:VEVENT
END:VCALENDAR